BEGIN:VCALENDAR
VERSION:2.0
PRODID:-//Penn Dutch Sportsmen&#039;s Club - ECPv6.15.20//NONSGML v1.0//EN
CALSCALE:GREGORIAN
METHOD:PUBLISH
X-WR-CALNAME:Penn Dutch Sportsmen&#039;s Club
X-ORIGINAL-URL:https://penndutchsportsmen.com
X-WR-CALDESC:Events for Penn Dutch Sportsmen&#039;s Club
REFRESH-INTERVAL;VALUE=DURATION:PT1H
X-Robots-Tag:noindex
X-PUBLISHED-TTL:PT1H
BEGIN:VTIMEZONE
TZID:UTC
BEGIN:STANDARD
TZOFFSETFROM:+0000
TZOFFSETTO:+0000
TZNAME:UTC
DTSTART:20240101T000000
END:STANDARD
END:VTIMEZONE
BEGIN:VEVENT
DTSTART;TZID=UTC:20250315T183000
DTEND;TZID=UTC:20250315T200000
DTSTAMP:20260425T161543
CREATED:20250212T231023Z
LAST-MODIFIED:20250212T231238Z
UID:100721-1742063400-1742068800@penndutchsportsmen.com
SUMMARY:Federations Banquet
DESCRIPTION:
URL:https://penndutchsportsmen.com/event/federations-banquet/
LOCATION:Yoders\, 14 S Tower Rd\, New Holland\, 17557\, United States
CATEGORIES:banquet
ATTACH;FMTTYPE=image/jpeg:https://penndutchsportsmen.com/wp-content/uploads/2025/02/20240321_163519.jpg
END:VEVENT
END:VCALENDAR