BEGIN:VCALENDAR
VERSION:2.0
PRODID:-//Penn Dutch Sportsmen&#039;s Club - ECPv6.15.20//NONSGML v1.0//EN
CALSCALE:GREGORIAN
METHOD:PUBLISH
X-WR-CALNAME:Penn Dutch Sportsmen&#039;s Club
X-ORIGINAL-URL:https://penndutchsportsmen.com
X-WR-CALDESC:Events for Penn Dutch Sportsmen&#039;s Club
REFRESH-INTERVAL;VALUE=DURATION:PT1H
X-Robots-Tag:noindex
X-PUBLISHED-TTL:PT1H
BEGIN:VTIMEZONE
TZID:UTC
BEGIN:STANDARD
TZOFFSETFROM:+0000
TZOFFSETTO:+0000
TZNAME:UTC
DTSTART:20250101T000000
END:STANDARD
END:VTIMEZONE
BEGIN:VEVENT
DTSTART;TZID=UTC:20260307T160000
DTEND;TZID=UTC:20260307T190000
DTSTAMP:20260425T112324
CREATED:20260108T131137Z
LAST-MODIFIED:20260108T131137Z
UID:100899-1772899200-1772910000@penndutchsportsmen.com
SUMMARY:Lancaster Co. Friends NRA Banquet
DESCRIPTION:Join other champions of the Second Amendment for dinner\, games\, auctions\, and fun with a chance to win exclusive NRA guns\, gear\, décor\, and collectibles!
URL:https://penndutchsportsmen.com/event/lancaster-co-friends-nra-banquet/
LOCATION:Double Tree Resort\, 2400 Willow Street Pike\, Lancaster\, PA\, 17602\, United States
CATEGORIES:banquet
ATTACH;FMTTYPE=image/webp:https://penndutchsportsmen.com/wp-content/uploads/2026/01/2024-10-13.webp
END:VEVENT
END:VCALENDAR