BEGIN:VCALENDAR
VERSION:2.0
PRODID:-//Penn Dutch Sportsmen&#039;s Club - ECPv6.15.20//NONSGML v1.0//EN
CALSCALE:GREGORIAN
METHOD:PUBLISH
X-WR-CALNAME:Penn Dutch Sportsmen&#039;s Club
X-ORIGINAL-URL:https://penndutchsportsmen.com
X-WR-CALDESC:Events for Penn Dutch Sportsmen&#039;s Club
REFRESH-INTERVAL;VALUE=DURATION:PT1H
X-Robots-Tag:noindex
X-PUBLISHED-TTL:PT1H
BEGIN:VTIMEZONE
TZID:UTC
BEGIN:STANDARD
TZOFFSETFROM:+0000
TZOFFSETTO:+0000
TZNAME:UTC
DTSTART:20240101T000000
END:STANDARD
END:VTIMEZONE
BEGIN:VEVENT
DTSTART;TZID=UTC:20260614T120000
DTEND;TZID=UTC:20260614T140000
DTSTAMP:20260425T155924
CREATED:20250222T180745Z
LAST-MODIFIED:20260315T143451Z
UID:100749-1781438400-1781445600@penndutchsportsmen.com
SUMMARY:Trap Shoot
DESCRIPTION:Join us for an exciting day of trap shooting at Penn Dutch Sportsman Club! Whether you’re a seasoned shooter or a beginner\, this event offers a great opportunity to test your skills and enjoy a day of clay shooting. These are noncompetitive\, low pressure\, just for fun trap shoots. We have youth model shotguns to use so bring the kids and get them started shooting trap! $5 for 25 birds. Bring your own shotgun shells or you can buy them at the club. \nThe end time varies. Depending on the amount of people that show up there are times that it ends earlier. 
URL:https://penndutchsportsmen.com/event/trap-shoot-13/
LOCATION:Penn Dutch Sportsman Club\, 5201-5355 Paes Rd\, New Holland\, PA\, 17557\, United States
CATEGORIES:trap-shooting
ATTACH;FMTTYPE=image/png:https://penndutchsportsmen.com/wp-content/uploads/2024/06/pd-trapshoot-banner-1.png
END:VEVENT
BEGIN:VEVENT
DTSTART;TZID=UTC:20260530T070000
DTEND;TZID=UTC:20260531T130000
DTSTAMP:20260425T155924
CREATED:20240703T023537Z
LAST-MODIFIED:20260223T183754Z
UID:100165-1780124400-1780232400@penndutchsportsmen.com
SUMMARY:3-D Archery
DESCRIPTION:Join us for an exciting 3-D Archery Shoot at Penn Dutch Sportsman’s Club! Test your skills and accuracy on a course featuring realistic animal targets. Whether you’re a seasoned archer or a beginner\, this event promises fun and competition for all ages. Don’t miss out on the chance to improve your aim and enjoy a day of archery with fellow enthusiasts.
URL:https://penndutchsportsmen.com/event/3-d-archery-shoot-3/
LOCATION:Penn Dutch Sportsman Club\, 5201-5355 Paes Rd\, New Holland\, PA\, 17557\, United States
CATEGORIES:3-d-archery
ATTACH;FMTTYPE=image/png:https://penndutchsportsmen.com/wp-content/uploads/2024/06/archery-banner.png
END:VEVENT
BEGIN:VEVENT
DTSTART;TZID=UTC:20260518T193000
DTEND;TZID=UTC:20260518T203000
DTSTAMP:20260425T155924
CREATED:20250212T230033Z
LAST-MODIFIED:20260108T130054Z
UID:100695-1779132600-1779136200@penndutchsportsmen.com
SUMMARY:Club Meeting
DESCRIPTION:Join us for our monthly club meeting at Penn Dutch Sportsman Club. This is a great opportunity for members to stay informed about club activities\, discuss upcoming events\, and connect with fellow enthusiasts. All members are encouraged to attend and participate in the discussions.
URL:https://penndutchsportsmen.com/event/club-meeting-12/
LOCATION:Penn Dutch Sportsman Club\, 5201-5355 Paes Rd\, New Holland\, PA\, 17557\, United States
CATEGORIES:club-meeting
ATTACH;FMTTYPE=image/jpeg:https://penndutchsportsmen.com/wp-content/uploads/2024/07/club-meeting-featured-Large-1.jpeg
END:VEVENT
BEGIN:VEVENT
DTSTART;TZID=UTC:20260517T120000
DTEND;TZID=UTC:20260517T140000
DTSTAMP:20260425T155924
CREATED:20240703T022718Z
LAST-MODIFIED:20260315T143443Z
UID:100159-1779019200-1779026400@penndutchsportsmen.com
SUMMARY:Trap Shoot
DESCRIPTION:Join us for an exciting day of trap shooting at Penn Dutch Sportsman Club! Whether you’re a seasoned shooter or a beginner\, this event offers a great opportunity to test your skills and enjoy a day of clay shooting. These are noncompetitive\, low pressure\, just for fun trap shoots. We have youth model shotguns to use so bring the kids and get them started shooting trap! $5 for 25 birds. Bring your own shotgun shells or you can buy them at the club. \nThe end time varies. Depending on the amount of people that show up there are times that it ends earlier. 
URL:https://penndutchsportsmen.com/event/trap-shoot-4/
LOCATION:Penn Dutch Sportsman Club\, 5201-5355 Paes Rd\, New Holland\, PA\, 17557\, United States
CATEGORIES:trap-shooting
ATTACH;FMTTYPE=image/png:https://penndutchsportsmen.com/wp-content/uploads/2024/06/pd-trapshoot-banner-1.png
END:VEVENT
BEGIN:VEVENT
DTSTART;TZID=UTC:20260427T193000
DTEND;TZID=UTC:20260427T203000
DTSTAMP:20260425T155924
CREATED:20250212T230048Z
LAST-MODIFIED:20260108T130029Z
UID:100697-1777318200-1777321800@penndutchsportsmen.com
SUMMARY:Club Meeting
DESCRIPTION:Join us for our monthly club meeting at Penn Dutch Sportsman Club. This is a great opportunity for members to stay informed about club activities\, discuss upcoming events\, and connect with fellow enthusiasts. All members are encouraged to attend and participate in the discussions.
URL:https://penndutchsportsmen.com/event/club-meeting-13/
LOCATION:Penn Dutch Sportsman Club\, 5201-5355 Paes Rd\, New Holland\, PA\, 17557\, United States
CATEGORIES:club-meeting
ATTACH;FMTTYPE=image/jpeg:https://penndutchsportsmen.com/wp-content/uploads/2024/07/club-meeting-featured-Large-1.jpeg
END:VEVENT
BEGIN:VEVENT
DTSTART;TZID=UTC:20260425T070000
DTEND;TZID=UTC:20260426T130000
DTSTAMP:20260425T155924
CREATED:20240703T023432Z
LAST-MODIFIED:20260223T183721Z
UID:100163-1777100400-1777208400@penndutchsportsmen.com
SUMMARY:3-D Archery
DESCRIPTION:Join us for an exciting 3-D Archery Shoot at Penn Dutch Sportsman’s Club! Test your skills and accuracy on a course featuring realistic animal targets. Whether you’re a seasoned archer or a beginner\, this event promises fun and competition for all ages. Don’t miss out on the chance to improve your aim and enjoy a day of archery with fellow enthusiasts.
URL:https://penndutchsportsmen.com/event/3-d-archery-shoot-2/
LOCATION:Penn Dutch Sportsman Club\, 5201-5355 Paes Rd\, New Holland\, PA\, 17557\, United States
CATEGORIES:3-d-archery
ATTACH;FMTTYPE=image/png:https://penndutchsportsmen.com/wp-content/uploads/2024/06/archery-banner.png
END:VEVENT
BEGIN:VEVENT
DTSTART;TZID=UTC:20260418T080000
DTEND;TZID=UTC:20260418T200000
DTSTAMP:20260425T155924
CREATED:20250222T182450Z
LAST-MODIFIED:20260223T185048Z
UID:100768-1776499200-1776542400@penndutchsportsmen.com
SUMMARY:Penn Dutch Workday
DESCRIPTION:Join us for Penn Dutch Workday for clean up and repairs. Workday day ends once work is completed.
URL:https://penndutchsportsmen.com/event/workday/
LOCATION:Penn Dutch Sportsman Club\, 5201-5355 Paes Rd\, New Holland\, PA\, 17557\, United States
CATEGORIES:workday
ATTACH;FMTTYPE=image/jpeg:https://penndutchsportsmen.com/wp-content/uploads/2025/02/pexels-ecoviu-team-260500507-14279181-Large.jpeg
ORGANIZER;CN="Penn Dutch Sportmen's Club":MAILTO:info@penndutchsportsmen.com
END:VEVENT
BEGIN:VEVENT
DTSTART;TZID=UTC:20260412T120000
DTEND;TZID=UTC:20260412T140000
DTSTAMP:20260425T155924
CREATED:20240703T022701Z
LAST-MODIFIED:20260315T143432Z
UID:100157-1775995200-1776002400@penndutchsportsmen.com
SUMMARY:Trap Shoot
DESCRIPTION:Join us for an exciting day of trap shooting at Penn Dutch Sportsman Club! Whether you’re a seasoned shooter or a beginner\, this event offers a great opportunity to test your skills and enjoy a day of clay shooting. These are noncompetitive\, low pressure\, just for fun trap shoots. We have youth model shotguns to use so bring the kids and get them started shooting trap! $5 for 25 birds. Bring your own shotgun shells or you can buy them at the club. \nThe end time varies. Depending on the amount of people that show up there are times that it ends earlier. 
URL:https://penndutchsportsmen.com/event/trap-shoot-3/
LOCATION:Penn Dutch Sportsman Club\, 5201-5355 Paes Rd\, New Holland\, PA\, 17557\, United States
CATEGORIES:trap-shooting
ATTACH;FMTTYPE=image/png:https://penndutchsportsmen.com/wp-content/uploads/2024/06/pd-trapshoot-banner-1.png
END:VEVENT
BEGIN:VEVENT
DTSTART;TZID=UTC:20260411T080000
DTEND;TZID=UTC:20260411T120000
DTSTAMP:20260425T155924
CREATED:20250222T181828Z
LAST-MODIFIED:20260223T184339Z
UID:100763-1775894400-1775908800@penndutchsportsmen.com
SUMMARY:Kids Fishing Derby - Nolts Pond\, New Holland
DESCRIPTION:Join us for a fun-filled morning at our annual Kids Fishing Derby at Nolt’s Pond! This event is a great opportunity for young anglers to enjoy a day of fishing\, friendly competition\, and outdoor fun. There will be prizes and food available! \n🌟 Important Reminders: \n\nThis event is just for the kids(12 years & younger)—parents and guardians are welcome to assist\, but the fishing is for the children.\nArrive early to grab a good spot!\nPlease bring your own fishing gear and bait.\n\nWe’re looking forward to a fantastic day by the water\, and we hope to see you there! Spread the word and invite your friends! 🎣🐟
URL:https://penndutchsportsmen.com/event/kids-fishing-derby-nolts-pond-new-holland/
LOCATION:Nolts Pond – New Holland\, New Holland\, PA\, 17557\, United States
CATEGORIES:kids-fishing-derby
ATTACH;FMTTYPE=image/jpeg:https://penndutchsportsmen.com/wp-content/uploads/2025/02/462231499_3803611926633060_6353904088423185512_n.jpg
ORGANIZER;CN="Penn Dutch Sportmen's Club":MAILTO:info@penndutchsportsmen.com
END:VEVENT
BEGIN:VEVENT
DTSTART;TZID=UTC:20260323T193000
DTEND;TZID=UTC:20260323T203000
DTSTAMP:20260425T155924
CREATED:20250212T230105Z
LAST-MODIFIED:20260108T130012Z
UID:100699-1774294200-1774297800@penndutchsportsmen.com
SUMMARY:Club Meeting
DESCRIPTION:Join us for our monthly club meeting at Penn Dutch Sportsman Club. This is a great opportunity for members to stay informed about club activities\, discuss upcoming events\, and connect with fellow enthusiasts. All members are encouraged to attend and participate in the discussions.
URL:https://penndutchsportsmen.com/event/club-meeting-14/
LOCATION:Penn Dutch Sportsman Club\, 5201-5355 Paes Rd\, New Holland\, PA\, 17557\, United States
CATEGORIES:club-meeting
ATTACH;FMTTYPE=image/jpeg:https://penndutchsportsmen.com/wp-content/uploads/2024/07/club-meeting-featured-Large-1.jpeg
END:VEVENT
BEGIN:VEVENT
DTSTART;TZID=UTC:20260308T120000
DTEND;TZID=UTC:20260308T160000
DTSTAMP:20260425T155924
CREATED:20240703T022551Z
LAST-MODIFIED:20260223T185437Z
UID:100153-1772971200-1772985600@penndutchsportsmen.com
SUMMARY:Trap Shoot
DESCRIPTION:Join us for an exciting day of trap shooting at Penn Dutch Sportsman Club! Whether you’re a seasoned shooter or a beginner\, this event offers a great opportunity to test your skills and enjoy a day of clay shooting. These are noncompetitive\, low pressure\, just for fun trap shoots. We have youth model shotguns to use so bring the kids and get them started shooting trap! $5 for 25 birds. Bring your own shotgun shells or you can buy them at the club. \nThe end time varies. Depending on the amount of people that show up there are times that it ends earlier. 
URL:https://penndutchsportsmen.com/event/trap-shoot-2/
LOCATION:Penn Dutch Sportsman Club\, 5201-5355 Paes Rd\, New Holland\, PA\, 17557\, United States
CATEGORIES:trap-shooting
ATTACH;FMTTYPE=image/png:https://penndutchsportsmen.com/wp-content/uploads/2024/06/pd-trapshoot-banner-1.png
END:VEVENT
BEGIN:VEVENT
DTSTART;TZID=UTC:20260307T160000
DTEND;TZID=UTC:20260307T190000
DTSTAMP:20260425T155924
CREATED:20260108T131137Z
LAST-MODIFIED:20260108T131137Z
UID:100899-1772899200-1772910000@penndutchsportsmen.com
SUMMARY:Lancaster Co. Friends NRA Banquet
DESCRIPTION:Join other champions of the Second Amendment for dinner\, games\, auctions\, and fun with a chance to win exclusive NRA guns\, gear\, décor\, and collectibles!
URL:https://penndutchsportsmen.com/event/lancaster-co-friends-nra-banquet/
LOCATION:Double Tree Resort\, 2400 Willow Street Pike\, Lancaster\, PA\, 17602\, United States
CATEGORIES:banquet
ATTACH;FMTTYPE=image/webp:https://penndutchsportsmen.com/wp-content/uploads/2026/01/2024-10-13.webp
END:VEVENT
BEGIN:VEVENT
DTSTART;TZID=UTC:20260223T193000
DTEND;TZID=UTC:20260223T203000
DTSTAMP:20260425T155924
CREATED:20250212T230121Z
LAST-MODIFIED:20260223T184101Z
UID:100701-1771875000-1771878600@penndutchsportsmen.com
SUMMARY:Club Meeting
DESCRIPTION:Join us for our monthly club meeting at Penn Dutch Sportsman Club. This is a great opportunity for members to stay informed about club activities\, discuss upcoming events\, and connect with fellow enthusiasts. All members are encouraged to attend and participate in the discussions.
URL:https://penndutchsportsmen.com/event/club-meeting-15/
LOCATION:New Holland Ambulance\, 101 E Franklin St\, New Holland\, 17557\, United States
CATEGORIES:club-meeting
ATTACH;FMTTYPE=image/jpeg:https://penndutchsportsmen.com/wp-content/uploads/2024/07/club-meeting-featured-Large-1.jpeg
END:VEVENT
BEGIN:VEVENT
DTSTART;TZID=UTC:20260126T193000
DTEND;TZID=UTC:20260126T203000
DTSTAMP:20260425T155924
CREATED:20250222T180143Z
LAST-MODIFIED:20260108T125908Z
UID:100731-1769455800-1769459400@penndutchsportsmen.com
SUMMARY:Club Meeting
DESCRIPTION:Join us for our monthly club meeting at Penn Dutch Sportsman Club. This is a great opportunity for members to stay informed about club activities\, discuss upcoming events\, and connect with fellow enthusiasts. All members are encouraged to attend and participate in the discussions.
URL:https://penndutchsportsmen.com/event/club-meeting-new-holland-ambulance-building/
LOCATION:Penn Dutch Sportsman Club\, 5201-5355 Paes Rd\, New Holland\, PA\, 17557\, United States
CATEGORIES:club-meeting
ATTACH;FMTTYPE=image/jpeg:https://penndutchsportsmen.com/wp-content/uploads/2024/07/club-meeting-featured-Large-1.jpeg
END:VEVENT
BEGIN:VEVENT
DTSTART;TZID=UTC:20251227T100000
DTEND;TZID=UTC:20251227T120000
DTSTAMP:20260425T155924
CREATED:20250222T180634Z
LAST-MODIFIED:20250222T180634Z
UID:100747-1766829600-1766836800@penndutchsportsmen.com
SUMMARY:Safety Orientation
DESCRIPTION:Join us for our mandatory Safety Orientation Event\, designed to introduce new members to the Penn Dutch Sportsman’s Club’s safety protocols and facility guidelines. This session covers all essential rules and regulations\, ensuring a safe and enjoyable experience for everyone. Attendance is required to receive your membership and gate card. No reservations needed – just show up at the designated time.
URL:https://penndutchsportsmen.com/event/safety-orientation-13/
LOCATION:Penn Dutch Sportsman Club\, 5201-5355 Paes Rd\, New Holland\, PA\, 17557\, United States
CATEGORIES:safety-orientation
ATTACH;FMTTYPE=image/jpeg:https://penndutchsportsmen.com/wp-content/uploads/2024/07/Gaming_YouTube_Thumbnail_in_Black_Red_Yellow_Typelectric_Style_1024x340.jpg
END:VEVENT
BEGIN:VEVENT
DTSTART;TZID=UTC:20251012T120000
DTEND;TZID=UTC:20251012T160000
DTSTAMP:20260425T155924
CREATED:20250212T230649Z
LAST-MODIFIED:20250212T230649Z
UID:100719-1760270400-1760284800@penndutchsportsmen.com
SUMMARY:Trap Shoot
DESCRIPTION:Join us for an exciting day of trap shooting at Penn Dutch Sportsman Club! Whether you’re a seasoned shooter or a beginner\, this event offers a great opportunity to test your skills and enjoy a day of clay shooting. These are noncompetitive\, low pressure\, just for fun trap shoots. We have youth model shotguns to use so bring the kids and get them started shooting trap! $5 for 25 birds. Bring your own shotgun shells or you can buy them at the club.
URL:https://penndutchsportsmen.com/event/trap-shoot-12/
LOCATION:Penn Dutch Sportsman Club\, 5201-5355 Paes Rd\, New Holland\, PA\, 17557\, United States
ATTACH;FMTTYPE=image/png:https://penndutchsportsmen.com/wp-content/uploads/2024/06/pd-trapshoot-banner-1.png
END:VEVENT
BEGIN:VEVENT
DTSTART;TZID=UTC:20251004T100000
DTEND;TZID=UTC:20251004T120000
DTSTAMP:20260425T155924
CREATED:20250222T180620Z
LAST-MODIFIED:20250222T180620Z
UID:100745-1759572000-1759579200@penndutchsportsmen.com
SUMMARY:Safety Orientation
DESCRIPTION:Join us for our mandatory Safety Orientation Event\, designed to introduce new members to the Penn Dutch Sportsman’s Club’s safety protocols and facility guidelines. This session covers all essential rules and regulations\, ensuring a safe and enjoyable experience for everyone. Attendance is required to receive your membership and gate card. No reservations needed – just show up at the designated time.
URL:https://penndutchsportsmen.com/event/safety-orientation-12/
LOCATION:Penn Dutch Sportsman Club\, 5201-5355 Paes Rd\, New Holland\, PA\, 17557\, United States
CATEGORIES:safety-orientation
ATTACH;FMTTYPE=image/jpeg:https://penndutchsportsmen.com/wp-content/uploads/2024/07/Gaming_YouTube_Thumbnail_in_Black_Red_Yellow_Typelectric_Style_1024x340.jpg
END:VEVENT
BEGIN:VEVENT
DTSTART;TZID=UTC:20250914T120000
DTEND;TZID=UTC:20250914T160000
DTSTAMP:20260425T155924
CREATED:20250222T181040Z
LAST-MODIFIED:20250222T181040Z
UID:100761-1757851200-1757865600@penndutchsportsmen.com
SUMMARY:Trap Shoot
DESCRIPTION:Join us for an exciting day of trap shooting at Penn Dutch Sportsman Club! Whether you’re a seasoned shooter or a beginner\, this event offers a great opportunity to test your skills and enjoy a day of clay shooting. These are noncompetitive\, low pressure\, just for fun trap shoots. We have youth model shotguns to use so bring the kids and get them started shooting trap! $5 for 25 birds. Bring your own shotgun shells or you can buy them at the club.
URL:https://penndutchsportsmen.com/event/trap-shoot-19/
LOCATION:Penn Dutch Sportsman Club\, 5201-5355 Paes Rd\, New Holland\, PA\, 17557\, United States
CATEGORIES:trap-shooting
ATTACH;FMTTYPE=image/png:https://penndutchsportsmen.com/wp-content/uploads/2024/06/pd-trapshoot-banner-1.png
END:VEVENT
BEGIN:VEVENT
DTSTART;TZID=UTC:20250914T120000
DTEND;TZID=UTC:20250914T160000
DTSTAMP:20260425T155924
CREATED:20250212T230632Z
LAST-MODIFIED:20250212T230632Z
UID:100715-1757851200-1757865600@penndutchsportsmen.com
SUMMARY:Trap Shoot
DESCRIPTION:Join us for an exciting day of trap shooting at Penn Dutch Sportsman Club! Whether you’re a seasoned shooter or a beginner\, this event offers a great opportunity to test your skills and enjoy a day of clay shooting. These are noncompetitive\, low pressure\, just for fun trap shoots. We have youth model shotguns to use so bring the kids and get them started shooting trap! $5 for 25 birds. Bring your own shotgun shells or you can buy them at the club.
URL:https://penndutchsportsmen.com/event/trap-shoot-11/
LOCATION:Penn Dutch Sportsman Club\, 5201-5355 Paes Rd\, New Holland\, PA\, 17557\, United States
ATTACH;FMTTYPE=image/png:https://penndutchsportsmen.com/wp-content/uploads/2024/06/pd-trapshoot-banner-1.png
END:VEVENT
BEGIN:VEVENT
DTSTART;TZID=UTC:20250906T100000
DTEND;TZID=UTC:20250906T120000
DTSTAMP:20260425T155924
CREATED:20250222T180546Z
LAST-MODIFIED:20250222T180546Z
UID:100743-1757152800-1757160000@penndutchsportsmen.com
SUMMARY:Safety Orientation
DESCRIPTION:Join us for our mandatory Safety Orientation Event\, designed to introduce new members to the Penn Dutch Sportsman’s Club’s safety protocols and facility guidelines. This session covers all essential rules and regulations\, ensuring a safe and enjoyable experience for everyone. Attendance is required to receive your membership and gate card. No reservations needed – just show up at the designated time.
URL:https://penndutchsportsmen.com/event/safety-orientation-11/
LOCATION:Penn Dutch Sportsman Club\, 5201-5355 Paes Rd\, New Holland\, PA\, 17557\, United States
CATEGORIES:safety-orientation
ATTACH;FMTTYPE=image/jpeg:https://penndutchsportsmen.com/wp-content/uploads/2024/07/Gaming_YouTube_Thumbnail_in_Black_Red_Yellow_Typelectric_Style_1024x340.jpg
END:VEVENT
BEGIN:VEVENT
DTSTART;TZID=UTC:20250810T120000
DTEND;TZID=UTC:20250810T160000
DTSTAMP:20260425T155924
CREATED:20250222T181026Z
LAST-MODIFIED:20250222T181026Z
UID:100759-1754827200-1754841600@penndutchsportsmen.com
SUMMARY:Trap Shoot
DESCRIPTION:Join us for an exciting day of trap shooting at Penn Dutch Sportsman Club! Whether you’re a seasoned shooter or a beginner\, this event offers a great opportunity to test your skills and enjoy a day of clay shooting. These are noncompetitive\, low pressure\, just for fun trap shoots. We have youth model shotguns to use so bring the kids and get them started shooting trap! $5 for 25 birds. Bring your own shotgun shells or you can buy them at the club.
URL:https://penndutchsportsmen.com/event/trap-shoot-18/
LOCATION:Penn Dutch Sportsman Club\, 5201-5355 Paes Rd\, New Holland\, PA\, 17557\, United States
CATEGORIES:trap-shooting
ATTACH;FMTTYPE=image/png:https://penndutchsportsmen.com/wp-content/uploads/2024/06/pd-trapshoot-banner-1.png
END:VEVENT
BEGIN:VEVENT
DTSTART;TZID=UTC:20250802T100000
DTEND;TZID=UTC:20250802T120000
DTSTAMP:20260425T155924
CREATED:20250222T180531Z
LAST-MODIFIED:20250728T132022Z
UID:100741-1754128800-1754136000@penndutchsportsmen.com
SUMMARY:Safety Orientation
DESCRIPTION:Join us for our mandatory Safety Orientation Event\, designed to introduce new members to the Penn Dutch Sportsman’s Club’s safety protocols and facility guidelines. This session covers all essential rules and regulations\, ensuring a safe and enjoyable experience for everyone. Attendance is required to receive your membership and gate card. No reservations needed – just show up at the designated time.
URL:https://penndutchsportsmen.com/event/safety-orientation-10/
LOCATION:Penn Dutch Sportsman Club\, 5201-5355 Paes Rd\, New Holland\, PA\, 17557\, United States
CATEGORIES:safety-orientation
ATTACH;FMTTYPE=image/jpeg:https://penndutchsportsmen.com/wp-content/uploads/2024/07/Gaming_YouTube_Thumbnail_in_Black_Red_Yellow_Typelectric_Style_1024x340.jpg
END:VEVENT
BEGIN:VEVENT
DTSTART;TZID=UTC:20250607T073000
DTEND;TZID=UTC:20250607T163000
DTSTAMP:20260425T155924
CREATED:20250222T183109Z
LAST-MODIFIED:20250222T183109Z
UID:100771-1749281400-1749313800@penndutchsportsmen.com
SUMMARY:Youth Field Day - Cocalico Sportsman
DESCRIPTION:
URL:https://penndutchsportsmen.com/event/youth-field-day-cocalico-sportsman/
LOCATION:Cocalico Sportsmen’s Association\, 585 Sportsman Rd\, Denver\, PA\, 17517\, United States
CATEGORIES:youth-field-day
ATTACH;FMTTYPE=image/jpeg:https://penndutchsportsmen.com/wp-content/uploads/2025/02/yfd-008.jpeg
END:VEVENT
BEGIN:VEVENT
DTSTART;TZID=UTC:20250605T100000
DTEND;TZID=UTC:20250605T120000
DTSTAMP:20260425T155924
CREATED:20250222T180456Z
LAST-MODIFIED:20250222T180456Z
UID:100739-1749117600-1749124800@penndutchsportsmen.com
SUMMARY:Safety Orientation
DESCRIPTION:Join us for our mandatory Safety Orientation Event\, designed to introduce new members to the Penn Dutch Sportsman’s Club’s safety protocols and facility guidelines. This session covers all essential rules and regulations\, ensuring a safe and enjoyable experience for everyone. Attendance is required to receive your membership and gate card. No reservations needed – just show up at the designated time.
URL:https://penndutchsportsmen.com/event/safety-orientation-9/
LOCATION:Penn Dutch Sportsman Club\, 5201-5355 Paes Rd\, New Holland\, PA\, 17557\, United States
CATEGORIES:safety-orientation
ATTACH;FMTTYPE=image/jpeg:https://penndutchsportsmen.com/wp-content/uploads/2024/07/Gaming_YouTube_Thumbnail_in_Black_Red_Yellow_Typelectric_Style_1024x340.jpg
END:VEVENT
BEGIN:VEVENT
DTSTART;TZID=UTC:20250531T100000
DTEND;TZID=UTC:20250531T120000
DTSTAMP:20260425T155924
CREATED:20250222T180443Z
LAST-MODIFIED:20250222T180443Z
UID:100737-1748685600-1748692800@penndutchsportsmen.com
SUMMARY:Safety Orientation
DESCRIPTION:Join us for our mandatory Safety Orientation Event\, designed to introduce new members to the Penn Dutch Sportsman’s Club’s safety protocols and facility guidelines. This session covers all essential rules and regulations\, ensuring a safe and enjoyable experience for everyone. Attendance is required to receive your membership and gate card. No reservations needed – just show up at the designated time.
URL:https://penndutchsportsmen.com/event/safety-orientation-8/
LOCATION:Penn Dutch Sportsman Club\, 5201-5355 Paes Rd\, New Holland\, PA\, 17557\, United States
CATEGORIES:safety-orientation
ATTACH;FMTTYPE=image/jpeg:https://penndutchsportsmen.com/wp-content/uploads/2024/07/Gaming_YouTube_Thumbnail_in_Black_Red_Yellow_Typelectric_Style_1024x340.jpg
END:VEVENT
BEGIN:VEVENT
DTSTART;TZID=UTC:20250517T100000
DTEND;TZID=UTC:20250517T120000
DTSTAMP:20260425T155924
CREATED:20250222T180419Z
LAST-MODIFIED:20250506T112404Z
UID:100735-1747476000-1747483200@penndutchsportsmen.com
SUMMARY:Safety Orientation
DESCRIPTION:Join us for our mandatory Safety Orientation Event\, designed to introduce new members to the Penn Dutch Sportsman’s Club’s safety protocols and facility guidelines. This session covers all essential rules and regulations\, ensuring a safe and enjoyable experience for everyone. Attendance is required to receive your membership and gate card. No reservations needed – just show up at the designated time.
URL:https://penndutchsportsmen.com/event/safety-orientation-7/
LOCATION:Penn Dutch Sportsman Club\, 5201-5355 Paes Rd\, New Holland\, PA\, 17557\, United States
CATEGORIES:safety-orientation
ATTACH;FMTTYPE=image/jpeg:https://penndutchsportsmen.com/wp-content/uploads/2024/07/Gaming_YouTube_Thumbnail_in_Black_Red_Yellow_Typelectric_Style_1024x340.jpg
END:VEVENT
BEGIN:VEVENT
DTSTART;TZID=UTC:20250417T170000
DTEND;TZID=UTC:20250417T190000
DTSTAMP:20260425T155924
CREATED:20250222T184230Z
LAST-MODIFIED:20250306T034429Z
UID:100803-1744909200-1744916400@penndutchsportsmen.com
SUMMARY:Fish Stocking
DESCRIPTION:
URL:https://penndutchsportsmen.com/event/fish-stocking-4/
LOCATION:Fish Stocking\, 234 Voganville Rd\, New Holland\, 17557\, United States
CATEGORIES:fish-stocking
ATTACH;FMTTYPE=image/jpeg:https://penndutchsportsmen.com/wp-content/uploads/2025/02/stocking-hero.jpeg
ORGANIZER;CN="Penn Dutch Sportmen's Club":MAILTO:info@penndutchsportsmen.com
END:VEVENT
BEGIN:VEVENT
DTSTART;TZID=UTC:20250410T170000
DTEND;TZID=UTC:20250410T190000
DTSTAMP:20260425T155924
CREATED:20250222T184217Z
LAST-MODIFIED:20250306T034502Z
UID:100801-1744304400-1744311600@penndutchsportsmen.com
SUMMARY:Fish Stocking
DESCRIPTION:
URL:https://penndutchsportsmen.com/event/fish-stocking-3/
LOCATION:Fish Stocking\, 234 Voganville Rd\, New Holland\, 17557\, United States
CATEGORIES:fish-stocking
ATTACH;FMTTYPE=image/jpeg:https://penndutchsportsmen.com/wp-content/uploads/2025/02/stocking-hero.jpeg
ORGANIZER;CN="Penn Dutch Sportmen's Club":MAILTO:info@penndutchsportsmen.com
END:VEVENT
BEGIN:VEVENT
DTSTART;TZID=UTC:20250405T100000
DTEND;TZID=UTC:20250405T120000
DTSTAMP:20260425T155924
CREATED:20250222T180302Z
LAST-MODIFIED:20250222T180302Z
UID:100733-1743847200-1743854400@penndutchsportsmen.com
SUMMARY:Safety Orientation
DESCRIPTION:Join us for our mandatory Safety Orientation Event\, designed to introduce new members to the Penn Dutch Sportsman’s Club’s safety protocols and facility guidelines. This session covers all essential rules and regulations\, ensuring a safe and enjoyable experience for everyone. Attendance is required to receive your membership and gate card. No reservations needed – just show up at the designated time.
URL:https://penndutchsportsmen.com/event/safety-orientation-6/
LOCATION:Penn Dutch Sportsman Club\, 5201-5355 Paes Rd\, New Holland\, PA\, 17557\, United States
CATEGORIES:safety-orientation
ATTACH;FMTTYPE=image/jpeg:https://penndutchsportsmen.com/wp-content/uploads/2024/07/Gaming_YouTube_Thumbnail_in_Black_Red_Yellow_Typelectric_Style_1024x340.jpg
END:VEVENT
BEGIN:VEVENT
DTSTART;TZID=UTC:20250403T170000
DTEND;TZID=UTC:20250403T190000
DTSTAMP:20260425T155924
CREATED:20250222T184203Z
LAST-MODIFIED:20250306T034515Z
UID:100799-1743699600-1743706800@penndutchsportsmen.com
SUMMARY:Fish Stocking
DESCRIPTION:
URL:https://penndutchsportsmen.com/event/fish-stocking-2/
LOCATION:Fish Stocking\, 234 Voganville Rd\, New Holland\, 17557\, United States
CATEGORIES:fish-stocking
ATTACH;FMTTYPE=image/jpeg:https://penndutchsportsmen.com/wp-content/uploads/2025/02/stocking-hero.jpeg
ORGANIZER;CN="Penn Dutch Sportmen's Club":MAILTO:info@penndutchsportsmen.com
END:VEVENT
END:VCALENDAR